BEGIN:VCALENDAR
VERSION:2.0
PRODID:-//wp-events-plugin.com//7.2.3.1//EN
TZID:Europe/Zurich
X-WR-TIMEZONE:Europe/Zurich
BEGIN:VEVENT
UID:1826@steinlachkultur.com
DTSTART;TZID=Europe/Zurich:20220929T190000
DTEND;TZID=Europe/Zurich:20220929T210000
DTSTAMP:20220904T101923Z
URL:https://steinlachkultur.com/events/vernissage-29-september-1900-uhr-ja
 hresausstellung-blau-kreatives-gomaringen-rathaus-gomaringen/
SUMMARY:Vernissage 29. September 19:00 Uhr - Jahresausstellung BLAU - Kreat
 ives Gomaringen - Rathaus Gomaringen
DESCRIPTION:
ATTACH;FMTTYPE=image/jpeg:https://steinlachkultur.com/wp-content/uploads/2
 022/09/BLAU.jpg
CATEGORIES:Vernissage/Finissage
LOCATION:Rathaus Gomaringen\, Lindenstraße 63\, Gomaringen\, 72810\, Deuts
 chland
X-APPLE-STRUCTURED-LOCATION;VALUE=URI;X-ADDRESS=Lindenstraße 63\, Gomaring
 en\, 72810\, Deutschland;X-APPLE-RADIUS=100;X-TITLE=Rathaus Gomaringen:geo
 :0,0
END:VEVENT
BEGIN:VTIMEZONE
TZID:Europe/Zurich
X-LIC-LOCATION:Europe/Zurich
BEGIN:DAYLIGHT
DTSTART:20220327T030000
TZOFFSETFROM:+0100
TZOFFSETTO:+0200
TZNAME:CEST
END:DAYLIGHT
END:VTIMEZONE
END:VCALENDAR