BEGIN:VCALENDAR
VERSION:2.0
PRODID:-//wp-events-plugin.com//7.2.3.1//EN
TZID:Europe/Zurich
X-WR-TIMEZONE:Europe/Zurich
BEGIN:VEVENT
UID:8375@steinlachkultur.com
DTSTART;TZID=Europe/Zurich;VALUE=DATE:20250422
DTEND;TZID=Europe/Zurich;VALUE=DATE:20250426
DTSTAMP:20250225T093550Z
URL:https://steinlachkultur.com/events/wollwoche/
SUMMARY:Wollwoche in der ArcheSchäferei - Osterferienkurs für Kinder in u
 nd um Bronnweiler
DESCRIPTION:Wollwerkstatt in der ArcheSchäferei\n\n4 Tage Ferienprogramm i
 n den Osterferien (Di-Fr) für Kinder ab 6 Jahren.\n\nMit unseren freundli
 chen Wald- und Steinschafe\, die wir auf den Streuobstwiesen besuchen.\n\n
 Mit Hütehündin Emmi kann man tolle Spaziergänge machen\, spielen und ku
 scheln.\n\nIn der Wollwerkstatt kardieren\, spinnen und filzen wir mit der
  Wolle von Feli\, Fritzie\, Keks und Sternschnuppe\n\nWir haben einen sch
 önen Arbeits- und Vesperraum in Kooperation mit dem Schwäbischen Albvere
 in. SAV Mitglieder erhalten 10\,- Euro Rabatt.\n\nInfos und Anmeldung sieh
 e webseite (arche-alb.de) oder eine mail schicken an info@arche-alb.de
ATTACH;FMTTYPE=image/jpeg:https://steinlachkultur.com/wp-content/uploads/2
 025/02/Waldschaf-Wollwoche-2.jpg
CATEGORIES:Kurse/Workshops
END:VEVENT
BEGIN:VTIMEZONE
TZID:Europe/Zurich
X-LIC-LOCATION:Europe/Zurich
BEGIN:DAYLIGHT
DTSTART:20250330T030000
TZOFFSETFROM:+0100
TZOFFSETTO:+0200
TZNAME:CEST
END:DAYLIGHT
END:VTIMEZONE
END:VCALENDAR