BEGIN:VCALENDAR
VERSION:2.0
PRODID:-//wp-events-plugin.com//7.2.3.1//EN
TZID:Europe/Zurich
X-WR-TIMEZONE:Europe/Zurich
BEGIN:VEVENT
UID:1748@steinlachkultur.com
DTSTART;TZID=Europe/Zurich:20221005T100000
DTEND;TZID=Europe/Zurich:20221005T180000
DTSTAMP:20220728T161609Z
URL:https://steinlachkultur.com/events/zauberei-mit-farben-und-strukturen-
 gelliplatedrucke-und-mehr-von-birgit-wallisser-nuber-2022-10-05/
SUMMARY:Zauberei mit Farben und Strukturen - Gelliplatedrucke und mehr von 
 Birgit Wallisser-Nuber
DESCRIPTION:Das Spielen mit der Gelplatte ist eine wahre Freude. Diese Form
  der Monotypie fasziniert  durch ihre Leichtigkeit und regt an zum Variie
 ren von Farben und Strukturen. Außerdem schmücken die Wände des Cafes n
 och eine Auswahl von Arbeiten\, bei denen Farbe mit allen möglichen Hilfs
 mitteln aufgetragen wird: mit Walzen\, Schwämmen\, Schablonen - alles was
  irgendeine Struktur aufweist. Die Arbeit mit einem Pinsel wäre zu banal.
 \n\nDas Hofcafe ist Dienstag bis Sonntag von 10 bis 18 Uhr geöffnet.\n\n&
 nbsp\;
CATEGORIES:Ausstellungen/Museen
LOCATION:Hofcafé Kastanienhof\, Ofterdinger Str. 14\, Bodelshausen\, 72411
 \, Deutschland
X-APPLE-STRUCTURED-LOCATION;VALUE=URI;X-ADDRESS=Ofterdinger Str. 14\, Bodel
 shausen\, 72411\, Deutschland;X-APPLE-RADIUS=100;X-TITLE=Hofcafé Kastanie
 nhof:geo:0,0
END:VEVENT
BEGIN:VTIMEZONE
TZID:Europe/Zurich
X-LIC-LOCATION:Europe/Zurich
BEGIN:DAYLIGHT
DTSTART:20220327T030000
TZOFFSETFROM:+0100
TZOFFSETTO:+0200
TZNAME:CEST
END:DAYLIGHT
END:VTIMEZONE
END:VCALENDAR